Workbook
Name cf: #REF!
Name cf: #REF!
Name cf: #REF!
Name Print_Area: ARTVISION!$B$1:$G$2
Name Print_Area: WINTER!#REF!
Name Print_Titles: WINTER!#REF!
Name w: [1]GALAXY!#REF!
Name w: [1]GALAXY!#REF!
Name w: [2]GALAXY!#REF!
Name к1: #REF!
Name к1: ARTVISION!#REF!
Name к1: #REF!
Name к1: #REF!
Name к2: #REF!
Name к2: ARTVISION!#REF!
Name к2: #REF!
Name к2: #REF!
Name к3: ARTVISION!#REF!
Name Курс_юаня: #REF!
Name Курс_юаня: WINTER!#REF!
Name Курс_юаня: '[3]SUPERJET NEW'!#REF!
Name курс1: #REF!
Name курс1: #REF!
Name курс1: #REF!
Name курс1: #REF!
Name курс1: #REF!
Name курс2: #REF!
Name курс2: #REF!
Name курс2: #REF!
Name курс2: #REF!
Name курс2: #REF!
Name курс3: #REF!
Name курс3: #REF!
Name курс3: #REF!
Name Скидка: #REF!
Name Скидка: #REF!
Name Скидка: #REF!
Name Скидка: #REF!
Name Скидка: #REF!
Name труд2: ARTVISION!#REF!
Name труд2: [5]MEGAPOLIS!#REF!
Name труд3: ARTVISION!#REF!
Name труд3: [5]MEGAPOLIS!#REF!
Name укнг6: #REF!
Name укнг6: #REF!
Name укнг6: #REF!
Name ыв: #REF!
Name ыв: #REF!
Name ыв: #REF!

Sheet Evolution
A2: Кабинет руководителя ЭВОЛЮШН | EVOLUTION | E2: НОВИНКА | F2: 46288
A5: № | B5: Артикул | C5: Иллюстрация | D5: Наименование | E5: Размер (ДхШхВ), мм | F5: Розничная цена
A6: 1 | B6: EVO101/SX.U003 | D6: Стол левый | E6: 2000х800х750 | F6: 42485
A7: 2 | B7: EVO101/DX.U003 | D7: Стол правый | E7: 2000х800х750 | F7: 42485
A8: 3 | B8: EVO102/SX.U003 | D8: Стол квадратный с тумбой левый | E8: 1600х1910х750 | F8: 81939
A9: =A8+1 -> 4 | B9: EVO102/DX.U003 | D9: Стол квадратный с тумбой правый | E9: 1600х1910х750 | F9: 81939
A10: =A9+1 -> 5 | B10: EVO103/SX.U003 | D10: Стол квадратный с вставкой и тумбой левый | E10: 1600х1910х750 | F10: 83814
A11: =A10+1 -> 6 | B11: EVO103/DX.U003 | D11: Стол квадратный с вставкой и тумбой правый | E11: 1600х1910х750 | F11: 83814
A12: 7 | B12: EVO201.U003 | D12: Брифинг-приставка | E12: 1000х600х750 | F12: 11607
A13: 8 | B13: EVO202.U003 | D13: Стол совещаний, не используется как отдельно стоящий элемент Либо приставка к столу руководителя, либо 2-3 элемента для создания стола переговоров. | E13: 1000х800х750 | F13: 17551
A14: 9 | B14: EVO403.U003 | D14: Открытая секция | E14: 1372х430х2000 | F14: 57306
A15: 10 | B15: EVO401.U003 | D15: Шкаф гардероб | E15: 718х430х2000 | F15: 25324
A16: 11 | B16: EVO402.U003 | D16: Шкаф со стеклянной дверкой | E16: 518х430х2000 | F16: 35357
A17: 12 | B17: EVO404/SX.U003 | D17: Завершающая секция с дверкой левая | E17: 318х430х2000 | F17: 16088
A18: 13 | B18: EVO404/DX.U003 | D18: Завершающая секция с дверкой правая | E18: 318х430х2000 | F18: 16088
A19: 14 | B19: EVO301.U003 | D19: Тумба на колесах | E19: 390х390х610 | F19: 28977
A20: 15 | B20: EVO302/DX.U003 | D20: Тумба приставная правая | E20: 1300х550х550 | F20: 74706
A21: 16 | B21: EVO302/SX.U003 | D21: Тумба приставная левая | E21: 1300х550х550 | F21: 74706
A22: Комплект (Стол руководителя c тумбой, шкаф для документов, гардероб)
A23: Состав комплекта | F23: Розничная цена
A24: EVO101SX.U003 (Стол 160), EVO301.U003 (Тумба) EVO401.U003 (Шкаф-гардероб), EVO402.U003(Шкаф со стеклянной дверкой) | F24: =F6+F15+F16+F19 -> 132143
A25: Толщина столешниц столов 32 мм, толщина деревянных опор 50 мм. Вставка стола EVO103SX/DX - ЛДСП в цв. Антрацит
A26: Шкафы и открытую секцию (EVO401-EVO403) необходимо комплектовать завершающими элементами (EVO404/DX). Середина композиции может набираться из (EVO401-EVO403) до бесконечной длинны.
C27: Подробнее на сайте: | D27: ЭВОЛЮШН | EVOLUTION

Sheet FLASH
F2: FLASH | H2: 46241
E3: Кабинет руководителя
E4: ФЛЭШ | FLASH
A6: Складская программа
A7: № | B7: Артикул | C7: Иллюстрация | D7: Наименование | E7: Размер (ДхШхВ), мм | F7: Вес, кг | G7: Объем, м3 | H7: Розничная цена
A8: 1 | B8: FLS201.L | D8: Стол 160 | E8: 1600х800х742 | F8: 65.27 | G8: 0.154 | H8: 42179
B9: FLS201.LS | H9: 0
A10: =A8+1 -> 2 | B10: FLS200.L | D10: Стол 180 | E10: 1800х800х742 | F10: 69.8 | G10: 0.164 | H10: 44104
B11: FLS200.LS | H11: 0
A12: =A10+1 -> 3 | B12: FLS202.L | D12: Брифинг-приставка | E12: 1000х600х742 | F12: 19.8 | G12: 0.05 | H12: 17105
B13: FLS202.LS | H13: 0
A14: =A12+1 -> 4 | B14: FLS207.L | D14: Тумба подкатная 3 ящика | E14: 452х474х595 | F14: 24.44 | G14: 0.136 | H14: 22252
B15: FLS207.LS | H15: 0
A16: =A14+1 -> 5 | B16: FLS203.L | D16: Приставка-греденция | E16: 1200х440х642 | F16: 45.9 | G16: 0.089 | H16: 26211
B17: FLS203.LS | H17: 0
A18: =A16+1 -> 6 | B18: FLS501.L | D18: Стол кофейный | E18: 600х600х457 | F18: 22.8 | G18: 0.047 | H18: 18111
B19: FLS501.LS | H19: 0
A20: =A18+1 -> 7 | B20: FLS220.L | D20: Стол переговоров | E20: 2000х1000х742 | F20: 80.6 | G20: 0.199 | H20: 56277
B21: FLS220.LS | H21: 0
A22: =A20+1 -> 8 | B22: FLS327/R2.L | D22: Шкаф 72 с деревянными дверями | E22: 900х420х707 | F22: 40.6 | G22: 0.089 | H22: 19264
B23: FLS327/R2.LS | H23: 0
A24: =A22+1 -> 9 | B24: FLS322/R2.L | D24: Шкаф 140 с деревянными дверями | E24: 900х420х1411 | F24: 72.2 | G24: 0.105 | H24: 32884
B25: FLS322/R2.LS | H25: 0
A26: =A24+1 -> 10 | B26: FLS321/R2.L | D26: Шкаф h140 со стеклянными дверями | E26: 900х420х1411 | F26: 69.6 | G26: 0.11 | H26: 34891
B27: FLS321/R2.LS | H27: 0
A28: =A26+1 -> 11 | B28: FLS323/R2.L | D28: Шкаф h140 с алюм стеклянными дверями | E28: 900х420х1411 | F28: 71.3 | G28: 0.115 | H28: 47793
B29: FLS323/R2.LS | H29: 0
A30: =A28+1 -> 12 | B30: FLS328/R2.L | D30: Шкаф комбинированный | E30: 900х420х2069 | F30: 91.51 | G30: 0.179 | H30: 48789
B31: FLS328/R2.LS | H31: 0
A32: =A30+1 -> 13 | B32: FLS331/R2.L | D32: Шкаф комбинированный алюм. | E32: 900х420х2069 | F32: 93.2 | G32: 0.184 | H32: 61691
B33: FLS331/R2.LS | H33: 0
A34: =A42+1 -> 15 | B34: FLS329/R2.L | D34: Гардероб 60 с замком | E34: 600х420х2069 | F34: 62.57 | G34: 0.112 | H34: 26191
B35: FLS329/R2.LS | H35: 0
A36: =A40+1 -> 17 | B36: FLS402/R2.L | D36: Шкаф-купе h206 полки/гардероб | E36: 1200х420х2069 | F36: 122.3 | G36: 0.227 | H36: 73096
B37: FLS402/R2.LS | H37: 0
A38: Программа под заказ
A39: № | B39: Артикул | C39: Иллюстрация | D39: Наименование | E39: Размер (ДхШхВ), мм | F39: Вес, кг | G39: Объем, м3 | H39: Розничная цена
A40: =A34+1 -> 16 | B40: FLS404/R2.L | D40: Шкаф-купе h140 полки | E40: 1200х420х1411 | F40: 96 | G40: 0.241 | H40: 62030
B41: FLS404/R2.LS
A42: =A32+1 -> 14 | B42: FLS332/R2.L | D42: Шкаф большие алюминиевые двери | E42: 900х420х2069 | F42: 92.18 | G42: 0.232 | H42: 69641
B43: FLS332/R2.LS
A44: =A36+1 -> 18 | B44: FLS401/R2.L | D44: Шкаф-купе h206 полки | E44: 1200х420х2069 | F44: 129.5 | G44: 0.277 | H44: 75270
B45: FLS401/R2.LS
A46: Элементы программы под заказ производятся при общей заявке на коллекцию от 600 000 рублей в розничных ценах.
A48: Комплект (Стол руководителя+тумба, шкаф для документов, гардероб)
A49: Состав комплекта | H49: Розничная цена
A50: FLS200 (Стол 180), FLS207 (Тумба подкат.3 ящ.), FLS328 (Шкаф комбинированный, стекло без рамки), FLS329 (Гардероб 60 с замком) | H50: =H10+H14+H30+H34 -> 141336
A51: Цвет столов, тумб, фасадов и топов шкафов: ДУБ 131, Лиственица.
A52: Столешницы столов, топы шкафов и тумб ЛДСП 32 мм.
A53: Внимание! Произошла замена цвета корпусов шкафов с Grey Alum на Серый (R2).
A54: Подробнее на сайте: | D54: ФЛЭШ | FLASH

Sheet T0WER
A2: Кабинет руководителя ТАУЭР | TOWER | H2: =FLASH!H2 -> 46241
A5: Складская программа
A6: № | B6: Артикул | C6: Иллюстрация | D6: Наименование | E6: Размер (ДхШхВ), мм | F6: Вес, кг | G6: Объем, м3 | H6: Розничная цена
A7: 1 | B7: TAU101.ANT | D7: Стол письменный | E7: 1800х900х754 | H7: 60291
A8: =A7+1 -> 2 | B8: TAU201DX.ANT | D8: Приставка к столу боковая правая | E8: 1200х600х754 | H8: 30070
A9: =A8+1 -> 3 | B9: TAU201SX.ANT | D9: Приставка к столу боковая левая | E9: 1200х600х754 | H9: 30070
A10: =A9+1 -> 4 | B10: TAU601.ANT | D10: Брифинг-приставка | E10: 1400х800х754 | H10: 38028
A11: =A10+1 -> 5 | B11: TAU701.ANT | D11: Элемент стола переговоров 1400 | E11: 1400х1000х772 | H11: 83491
A12: =A11+1 -> 6 | B12: TAU301.ANT | D12: Тумба мобильная | E12: 450х442х550 | H12: 30432
A13: =A12+1 -> 7 | B13: TAU302.ANT | D13: Сервисная тумба | E13: 1500х470х650 | H13: 61129
A14: =A13+1 -> 8 | B14: TAU401.ANT | D14: Шкаф для бумаг со стеклом | E14: 900х450х2056 | H14: 85798
A15: =A14+1 -> 9 | B15: TAU402.ANT | D15: Гардероб | E15: 900х450х2056 | H15: 49743
A16: =A15+1 -> 10 | B16: TAU405.ANT | D16: Стеллаж с малыми дверьми | E16: 900х450х2056 | H16: 45397
A17: 11 | B17: TAU404.ANT | D17: Шкаф низкий | E17: 900х450х742 | H17: 25456
A18: Программа под заказ
A19: № | B19: Артикул | C19: Иллюстрация | D19: Наименование | E19: Размер (ДхШхВ), мм | F19: Вес, кг | G19: Объем, м3 | H19: Розничная цена
A20: 12 | B20: TAU401.U003 | D20: Шкаф для бумаг со стеклом | E20: 900х450х2056 | H20: 85798
A21: 13 | B21: TAU402.U003 | D21: Гардероб | E21: 900х450х2056 | H21: 49743
A22: 14 | B22: TAU403.ANT | D22: Шкаф для бумаг | E22: 900х450х2056 | H22: 54433
A23: 15 | B23: TAU403.U003 | D23: Шкаф для бумаг | E23: 900х450х2056 | H23: 54433
A24: 16 | B24: TAU404.U003 | D24: Шкаф низкий | E24: 900х450х2056 | H24: 25456
A25: 17 | B25: TAU405.U003 | D25: Стеллаж с малыми дверьми | E25: 900х450х2056 | H25: 45397
A27: Комплект (Стол письменный+тумба подкатная, шкаф для документов, гардероб)
A28: Состав комплекта | H28: Розничная цена
A29: TAU101 (Стол письменный), TAU301 (Тумба подкатная), TAU401 (Шкаф для документов), TAU402 (Гардероб) | H29: =H7+H12+H14+H15 -> 226264
B30: Подробнее на сайте: | E30: ТАУЭР | TOWER

Sheet ARTVISION
B2: =FLASH!H2 -> 46241 | F2: НОВИНКА
B4: Программа под заказ АРТВИЖН | ArtVision белый/зеленый эвкалипт U604
A5: № | B5: Артикул | C5: Иллюстрация | D5: Наименование | E5: Размер (ДхШхВ), мм | F5: Розничная цена, руб.
A6: 1 | B6: ART161SX.U604 | D6: Стол эргономичный левый | E6: 1650х1650х750 | F6: 121597
A7: =1+A6 -> 2 | B7: ART161DX.U604 | D7: Стол эргономичный правый | E7: 1650х1650х750 | F7: 121597
A8: =1+A7 -> 3 | B8: ART601.U604 | D8: Брифинг-приставка | E8: 1000х700х750 | F8: 12610
A9: =1+A8 -> 4 | B9: ART701.U604 | D9: Стол переговоров | E9: 2400х1100х750 | F9: Цена по запросу
A10: =1+A9 -> 5 | B10: ART702.U604 | D10: Стол переговоров | E10: 3400х1100х750 | F10: Цена по запросу
A11: =1+A10 -> 6 | B11: ART204.U604 | D11: Тумба подкатная | E11: 437х440х670 | F11: 33316
A12: =1+A11 -> 7 | B12: ART401L.U604 | D12: Стеллаж торцевой средний левый | E12: 350х414х1267 | F12: 13324
A13: =1+A12 -> 8 | B13: ART401R.U604 | D13: Стеллаж торцевой средний правый
A14: =1+A13 -> 9 | B14: ART402.U604 | D14: Шкаф с двумя полками средний | E14: 700х414х1267 | F14: 26323
A15: =1+A14 -> 10 | B15: ART403.U604 | D15: Шкаф гардероб средний | E15: 700х414х1267 | F15: 26323
A16: =1+A15 -> 11 | B16: ART404.U604 | D16: Стеллаж средний 390 | E16: 390х414х1267 | F16: 16649
A17: =1+A16 -> 12 | B17: ART405.U604 | D17: Стеллаж средний 550 | E17: 550х414х1267 | F17: 20419
A18: =1+A17 -> 13 | B18: ART406L.U604 | D18: Стеллаж торцевой высокий левый | E18: 350х414х2017 | F18: 21077
A19: =1+A18 -> 14 | B19: ART406R.U604 | D19: Стеллаж торцевой высокий правый
A20: =1+A19 -> 15 | B20: ART407.U604 | D20: Шкаф с полками высокий | E20: 700х414х2017 | F20: 41918
A21: =1+A20 -> 16 | B21: ART414.U604 | D21: Гардероб | E21: 700х414х2017 | F21: 41027
A22: =1+A21 -> 17 | B22: ART415.U604 | D22: Шкаф для документов со стеклом | E22: 700х414х2017 | F22: 71794
A23: =1+A22 -> 18 | B23: ART408.U604 | D23: Стеллаж высокий 390 | E23: 390х414х2017 | F23: 25885
A24: =1+A23 -> 19 | B24: ART409.U604 | D24: Стеллаж высокий 550 | E24: 550х414х2017 | F24: 30524
A25: =A24+1 -> 20 | B25: ART904.U604 | D25: Композиция шкаф средний со стеллажами | E25: 1790x414x1267 | F25: 69621
B26: ART401L - 1 ШТ ART401R - 1 ШТ ART402 - 1 ШТ ART404 - 1 ШТ
A27: =1+A25 -> 21 | B27: ART905.U604 | D27: Композиция шкаф высокий со стеллажами | E27: 2340х414х2017 | F27: 140481
B28: ART406L - 1 ШТ ART406R - 1 ШТ ART407 - 1 ШТ ART408 - 1 ШТ ART409 - 1 ШТ
A29: =A27+1 -> 22 | B29: ART413.U604 | D29: Перегородка мобильная двусторонняя (маркерная доска / навеска ТВ) | E29: 1500х450х1400 | F29: 72633
A31: Комплект (Стол письменный+тумба подкатная, шкаф для документов, гардероб)
A32: Состав комплекта | F32: Розничная цена
A33: Композиция стол ART161DX -1 ШТ. ART204 - 1 ШТ. ART414 - 1 ШТ. ART415 - 1 ШТ. | F33: =F6+F11+F22+F21 -> 267734
C35: Подробности на сайте: | D35: АРТВИЖН | ArtVision
A36: Товар не предназначен для продажи на маркетплейсах

Sheet DRIVE
A1: Кабинет руководителя ДРАЙВ | DRIVE | G1: =FLASH!H2 -> 46241
A4: Складская программа в цв. Антрацит + Бургунди. Изделия с экокожей Муссон изготавливаются под заказ.
A5: № | B5: Артикул | C5: Иллюстрация | D5: Наименование | E5: Размер (ДхШхВ), мм | F5: Розничная цена
A6: 1 | B6: DRV501SX.G3388 | C6: на фото правый стол | D6: Стол с тумбой левой 2000х1700 экокожа Бургунди или Муссон | E6: 2000х1700х750 | F6: 139523
A7: =A6+1 -> 2 | B7: DRV501DX.G3388 | D7: Стол с тумбой правой 2000х1700 экокожа Бургунди или Муссон | F7: #REF!
A8: =A7+1 -> 3 | B8: DRV502.ANT | D8: Стол рабочий | E8: 1500х900х750 | F8: 61851
A9: =A8+1 -> 4 | B9: DRV601.ANT | D9: Брифинг (для столов DRV501SX/DX) | E9: 900х700х750 | F9: 37141
A10: =A9+1 -> 5 | B10: DRV701.G3388 | D10: Стол переговоров (кабель-канал Бургунди) | E10: 2800*1300*750 | F10: 114721
B11: DRV701.KZMUS | D11: Стол переговоров (кабель-канал Муссон)
A12: 6 | B12: DRV422.ANT | D12: Гардероб | E12: 800х400х2000 | F12: 39226
A13: 7 | B13: DRV420.G3388 | D13: Шкаф с деревянными дверями | E13: 800х400х2000 | F13: 51454
B14: DRV420.KZMUS
A15: 8 | B15: DRV421.G3388 | D15: Шкаф со стеклом и подсветкой. Полки - стекло. | E15: 800х400х2000 | F15: 99209
B16: DRV421.KZMUS
A17: 9 | B17: DRV423.G3388 | D17: Стеллаж цв. Бургунди или Муссон | E17: 1800х400х2000 | F17: 129426
B18: DRV423.KZMUS
A19: 10 | B19: DRV419.G3388 | D19: Боковина шкафа декоративная 1шт. Бургунди или Муссон. | E19: 400х50х2000 | F19: 24715
B20: DRV419.KZMUS
A21: =A19+1 -> 11 | B21: DRV406.G3388 | D21: Двойной шкаф средний (двери ЛДСП, наполнение полки) | E21: 1700х400х1350 | F21: 101674
B22: DRV406.KZMUS
A23: =A21+1 -> 12 | B23: DRV407.G3388 | D23: Двойной шкаф с подсветкой (фасады: прозрачное стекло в al рамке; ЛДСП). Полки в боковых секциях- стекло. двери менять местами нельзя | E23: 1700х400х1350 | F23: 161445
B24: DRV407.KZMUS
A25: 13 | B25: DRV301.G3388 | D25: Тумба мобильная | E25: 450х490х650 | F25: 45462
B26: DRV301.KZMUS
A28: Состав комплекта | F28: Розничная цена
A29: DRV501DX/SX (Стол с тумбой правой или левой 2000х1700), DRV420 (Шкаф с деревянными дверями), DRV422 (Гардероб) | F29: =F6+F12+F13 -> 230203
A31: Подробнее на нашем сайте: | D31: ДРАЙВ | DRIVE
A32: Товар не предназначен для продажи на маркетплейсах

Sheet PORTO
E3: ПОРТО | PORTO
H5: =FLASH!H2 -> 46241
A6: Складская программа
A7: № | B7: Артикул | C7: Иллюстрация | D7: Наименование | E7: Размер (ДхШхВ), мм | F7: Вес, кг | G7: Объем, м3 | H7: Розничная цена
A8: 1 | B8: PRT201.U2108 | D8: Стол руководителя 160 | E8: 1600х800х780 | F8: 73 | G8: 0.296 | H8: 76899
H9: #N/A
A10: =A8+1 -> 2 | B10: PRT200.U2108 | D10: Стол руководителя 180 | E10: 1800х800х780 | F10: 77.77 | G10: 0.306 | H10: 80377
H11: #N/A
A12: =A10+1 -> 3 | B12: PRT106.U2108 | D12: Тумба подвесная 4 ящика (к столам 160 и 180 см) | E12: 450х525х675 | F12: 20.12 | G12: 0.162 | H12: 44268
H13: #N/A
A14: =A12+1 -> 4 | B14: PRT107.U2108 | D14: Тумба подвесная 3 ящика (к столам 160 и 180 см, ресепшн и боковой приставке) | E14: 450х477х516 | F14: 16.1 | G14: 0.127 | H14: 33847
H15: #N/A
A16: =A14+1 -> 5 | B16: PRT202.U2108 | D16: Брифинг-приставка (к ней подходит только тумба PRT107) | E16: 1200х600х720 | F16: 28.48 | G16: 0.117 | H16: 38036
H17: #N/A
A18: =A16+1 -> 6 | B18: PRT302.U2108 | D18: Греденция малая | E18: 1217х498х800 | F18: 68.88 | G18: 0.243 | H18: 65577
H19: #N/A
A20: =A18+1 -> 7 | B20: PRT206.U2108 | D20: Стол кофейный | E20: 1200х600х500 | F20: 39.6 | G20: 0.146 | H20: 49646
H21: #N/A
A22: =A20+1 -> 8 | B22: PRT208.U2108 | D22: Стол переговоров | E22: 2100х950х780 | F22: 95.17 | G22: 0.389 | H22: 93717
H23: #N/A
A24: =A22+1 -> 9 | B24: PRT401.U2108 | D24: Гардероб | E24: 1240х515х2148 | F24: 148.47 | G24: 0.55 | H24: 128244
H25: #N/A
A26: =A24+1 -> 10 | B26: PRT403.U2108 | D26: Шкаф комбинированный | E26: 1240х515х2148 | F26: 143.2 | G26: 0.541 | H26: 148073
H27: #N/A
A28: =A26+1 -> 11 | B28: PRT901.U2108 | D28: Шкаф с полками и гардероб | E28: 2147х515х2148 | F28: =#REF!+#REF!+#REF!+#REF!*2 -> #REF! | G28: =#REF!+#REF!+#REF!+#REF!*2 -> #REF! | H28: 197757
H29: #N/A
A30: =A28+1 -> 12 | B30: PRT902.U2108 | D30: Шкаф комбинированный и гардероб | E30: 2147х515х2148 | F30: =#REF!+#REF!+#REF!+#REF!+#REF! -> #REF! | G30: =#REF!+#REF!+#REF!+#REF!+#REF! -> #REF! | H30: 217977
H31: #N/A
A32: =A30+1 -> 13 | B32: PRT903.U2108 | D32: Двойной комбинированный шкаф | E32: 2147х515х2148 | F32: =#REF!+#REF!+#REF!+#REF!*2 -> #REF! | G32: =#REF!+#REF!+#REF!+#REF!*2 -> #REF! | H32: 236103
H33: #N/A
A34: Программа под заказ
A35: № | B35: Артикул | C35: Иллюстрация | D35: Наименование | E35: Размер (ДхШхВ), мм | F35: Вес, кг | G35: Объем, м3 | H35: Розничная цена
A36: 14 | B36: PRT301.U2108 | D36: Греденция | E36: 2124х498х800 | F36: 113.11 | G36: 0.364 | H36: 106716
H37: #N/A
A38: =A36+1 -> 15 | B38: PRT303.U2108 | D38: Панель греденции | E38: 1965х65х979 | F38: 23.82 | G38: 0.156 | H38: 107449
H39: #N/A
A40: =A38+1 -> 16 | B40: PRT404.U2108 | D40: Шкаф с деревянными дверями | E40: 1240х515х2148 | F40: 144.3 | G40: 0.541 | H40: 128156
H41: #N/A
A42: =A40+1 -> 17 | B42: PRT601.U2108 | D42: Reseption (подвесную тумбу на 4 ящика не смонтировать) | E42: 1790х876х1150 | F42: 117.14 | G42: 0.371 | H42: 117722
H43: #N/A
A44: =A42+1 -> 18 | B44: PRT602.U2108 | D44: Reseption (подвесная тумба на 3 ящика) | E44: 1790х876х1150 | F44: 133.2 | G44: 0.498 | H44: 162608
H45: #N/A
A46: =A44+1 -> 19 | B46: PRT802.U2108 | D46: Столешница угловая | E46: 980х980х60 | H46: 18061
H47: #N/A
A48: =A46+1 -> 20 | B48: PRT803.U2108 | D48: Одноместная средняя столешница | E48: 870х800х697 | H48: 19939
H49: #N/A
A50: =A48+1 -> 21 | B50: PRT804.U2108 | D50: Двухместная средняя столешница | E50: 1740х800х697 | H50: 32300
H51: #N/A
A52: =A50+1 -> 22 | B52: PRT801.U2108 | D52: Опора модульного стола | E52: 715х166х755 | H52: 24202
H53: #N/A
A54: =A52+1 -> 23 | B54: PRT805DX.U2108 | D54: Двухместный конечный элемент правый | E54: 1740x800x780 | H54: 59818
H55: #N/A
A56: =A54+1 -> 24 | B56: PRT805SX.U2108 | D56: Двухместный конечный элемент левый | E56: 1740x800x780 | H56: 59818
H57: #N/A
A59: Комплект (Стол письменный+тумба подкатная, шкаф для документов, гардероб)
A60: Состав комплекта | H60: Розничная цена
A61: PRT200 (Стол руководителя 180), PRT106 (Тумба подвесная 4 ящика), PRT403 (Шкаф комбинированный) | H61: =H10+H12+H26 -> 272718
C62: Подробности на сайте: | D62: ПОРТО | PORTO
A63: Элементы коллекций, в цвете "Орех Классик", "Дуб 131", Rover Cafe, имеющиеся в наличии продаются со скидкой.

Sheet FRANKLIN DM Light
F1: =FLASH!H2 -> 46241
A2: Кабинет руководителя ФРАНКЛИН ДМ ЛАЙТ | Franklin DM LIGHT
A5: Складская программа
A6: № | B6: Артикул | C6: Иллюстрация | D6: Наименование | E6: Размер (ДхШхВ), мм | F6: Розничная цена
A7: 1 | B7: FRAN104.H1199 FRAN104.H3398 | D7: Стол прямой 1,8м столешница без бювара | E7: 1800х900х750 | F7: 101779
A8: 2 | B8: FRAN104MUS.H1199 FRAN104MUS.H3398 | D8: Стол прямой 1,8м с накладным кожаным бюваром в цв.: Musson, Чёрный, Green Verdino | E8: 1800х900х750 | F8: 108695
B9: FRAN104BL.H1199 FRAN104BL.H3398 | F9: 119213
B10: FRAN104GR.H1199 FRAN104GR.H3398 | F10: 119213
A11: 3 | B11: FRAN105.H1199 FRAN105.H3398 | D11: Стол прямой 2м без бювара | E11: 2000х1000х750 | F11: 114895
A12: 4 | B12: FRAN105MUS.H1199 FRAN105MUS.H3398 | D12: Стол прямой 2м с накладным кожаным бюваром в цв.: Musson, Чёрный, Green Verdino | E12: 2000х1000х750 | F12: 121811
B13: FRAN105BL.H1199 FRAN105BL.H3398 | F13: 136557
B14: FRAN105GR.H1199 FRAN105GR.H3398 | F14: 136557
A15: 5 | B15: FRAN300.H1199 FRAN300.H3398 | D15: Приставка универсальная | E15: 1000х540х750 | F15: 48745
A16: 6 | B16: FRAN605.H1199 FRAN605.H3398 | D16: Брифинг прямой | E16: 1300х840х750 | F16: 60286
A17: 7 | B17: FRAN201.H1199 FRAN201.H3398 | D17: Тумба подкатная | E17: 450х500х610 | F17: 26202
A18: 8 | B18: FRAN202.H1199 FRAN202.H3398 | D18: Тумба сервисная | E18: 1350х560х610 | F18: 56629
A19: 9 | B19: FRAN503.H1199 FRAN503.H3398 | D19: Шкаф низкий | E19: 900х420х787 | F19: 31896
A20: 10 | B20: FRAN502.H1199 FRAN502.H3398 | D20: Шкаф с полками высокие двери (Шкаф для документов) | E20: 900х420х2045 | F20: 64168
A21: 11 | B21: FRAN505.H1199 FRAN505.H3398 | D21: Гардероб | E21: 900х420х2045 | F21: 61939
A22: 12 | B22: FRAN501.H1199 FRAN501.H3398 | D22: Шкаф комбинированный | E22: 900х420х2045 | F22: 77598
A23: 13 | B23: FRAN504L.H1199 FRAN504L.H3398 | D23: Шкаф с полками узкий с левой дверью (петли слева) | E23: 450х420х2045 | F23: 39371
A24: 14 | B24: FRAN504R.H1199 FRAN504R.H3398 | D24: Шкаф с полками узкий с правой дверью (петли справа) | F24: #N/A
A25: 15 | B25: FRAN701.H1199 FRAN701.H3398 | D25: Стол переговоров 2340 | E25: 2340х1240х750 | F25: 134198
A26: Услуга врезки кабельканала или блока розеток в столешницу стола руководителя или стола переговоров (за 1 шт. без стоимости блока) | E26: 10000
A28: Программа под заказ
A29: 16 | B29: FRAN103.H1199 FRAN103.H3398 | D29: Стол прямой 1,6м столешница без бювара | E29: 1600х800х750 | F29: 92038
A30: 17 | B30: FRAN103MUS.H1199 FRAN103MUS.H3398 | D30: Стол прямой 1,6м с накладным кожаным бюваром в цв.: Musson, Чёрный, Green Verdino | E30: 1600х800х750 | F30: 98954
B31: FRAN103BL.H1199 FRAN103BL.H3398
B32: FRAN103GR.H1199 FRAN103GR.H3398
A33: 18 | B33: FRAN106.H1199 FRAN106.H3398 | D33: Стол прямой 2,2м без бювара | E33: 2200*1000*750 | F33: 122820
A34: 19 | B34: FRAN106MUS.H1199 FRAN106MUS.H3398 | D34: Стол прямой 2,2м с кожаным бюваром в цв.: Musson, Чёрный, Green Verdino | E34: 2200*1000*750 | F34: 129736
B35: FRAN106BL.H1199 FRAN106BL.H3398
B36: FRAN106GR.H1199 FRAN106GR.H3398
A38: Кабинет Franklin DM в цвете "Дуб Термо" с элементами из массива: карнизы шкафов, ручки фасадов, кромки столов, накладки на опоры - массив бука; плоские поверхности изготовлены из высококачественной ЛДСП производства Egger. Высокие шкафы изготавливаются без замков.
A39: Подробнее о кабинете на нашем сайте | D39: ФРАНКЛИН ДМ ЛАЙТ | Franklin DM LIGHT
A41: Комплект (Стол руководителя+тумба подкатная, шкаф для документов, гардероб)
A42: Состав комплекта | F42: Розничная цена
A43: FRAN104MUS (Стол прямой 1,8 м+накладной бювар), FRAN201 (Тумба подкатная 3 ящ.), FRAN501 (Шкаф комбинированный со стеклом), FRAN505 (Гардероб) | F43: =F34+F17+F21+F22 -> 295475

Sheet AURUS
A2: Кабинет руководителя АУРУС | AURUS | H2: =FLASH!H2 -> 46241
A5: Складская программа
A6: № | C6: Артикул | D6: Наименование | E6: Иллюстрация | F6: Размер, мм | G6: Цвет и описание | H6: Цена розница
A7: 1 | C7: AU1808/V29.U727 | D7: Стол с короткой тумбой (универсальный) 1,8м. | E7: на фото правый стол(R) | F7: 1800*800*750 | G7: Столешница, опоры, фасады ящиков из шпона: Жженый дуб ТА28YA или Кофейный орех TA29YA. Остальные элементы из ламинированной плиты. Толщина столешницы и опоры 35мм в стандартную комплектацию входит блок розеток : 3 EURO розетки, 2шт.USB, 2шт.RJ45, с выключателем провод 1.8м | H7: 137700
C8: AU1808/V29.U999
A9: =A7+1 -> 2 | C9: AU2018/V29.U727 | D9: Стол с длинной тумбой (универсальный) 2,0м. | E9: на фото правый стол(R) | F9: 2000*1800*750 | G9: Столешница, опоры, фасады ящиков из шпона: Жженый дуб ТА28YA или Кофейный орех TA29YA. Остальные элементы из ламинированной плиты. Толщина столешницы и опоры 35мм в стандартную комплектацию входит блок розеток : 3 EURO розетки, 2шт.USB, 2шт.RJ45, с выключателем провод 1.8м. | H9: 173400
C10: AU2018/V28.U999
A11: =A9+1 -> 3 | C11: AU2218/V29.U727 | D11: Стол с длинной тумбой (универсальный) 2,2м. | E11: на фото правый стол(R) | F11: 2200*1800*750 | G11: Столешница, опоры, фасады ящиков из шпона: Жженый дуб ТА28YA или Кофейный орех TA29YA. Остальные элементы из ламинированной плиты. Толщина столешницы и опоры 35мм в стандартную комплектацию входит блок розеток : 3 EURO розетки, 2шт.USB, 2шт.RJ45, с выключателем провод 1.8м. | H11: 191760
C12: AU2218/V28.U999
A13: =A11+1 -> 4 | C13: AU1206.TA29YA | D13: Брифинг-приставка | F13: 1200*600*750 | G13: Столешница и опора, из шпона: Жженый дуб ТА28YA или Кофейный орех TA29YA. Толщина столешницы и опоры 35мм | H13: 36747
C14: AU1206.TA28YA
A15: 5 | C15: AU4520/L7BR/S/L.U727 | D15: Шкаф 1 дверный для документов левый/правый (двери ЛДСП) | F15: 450*420*2050 | G15: СЕРЫЙ КАМЕНЬ Все элементы шкафа ЛДСП. Профиль-ручка оригинальной формы в цвете бронза. | H15: 30006
C16: AU4520/L7BR/S/R.U727 | H16: 30006
C17: AU4520/L9BL/S/L.U999 | G17: Черный U999 Все элементы шкафа ЛДСП. Профиль-ручка в черном цвете. Фасад - премиальная ЛДСП EGGER. | H17: 35902
C18: AU4520/L9BL/S/R.U999 | H18: 35902
A19: 6 | C19: AU4520/V29BR/S/L.U727 | D19: Шкаф 1 дверный для документов левый/правый (двери шпон) | F19: 450*420*2050 | G19: TA29YA Фасад шкафа - шпон в тонировке Кофейный орех. Остальные элементы - ЛДСП в цв. Серый Камень. Ручка в цвете бронза. | H19: 47451
C20: AU4520/V29BR/S/R.U727 | H20: 47451
C21: AU4520/V28BL/S/L.U999 | G21: TA28YA Фасад шкафа - шпон в тонировке Жженый дуб. Остальные элементы - ЛДСП в черном цвете. Профиль-ручка в черном цвете. | H21: 51404
C22: AU4520/V28BL/S/R.U999 | H22: 51404
A23: 7 | C23: AU4520/GBR/S/L.U727 | D23: Шкаф 1 дверный для документов левый/правый (двери стекло) | F23: 450*420*2050 | G23: GLASS BRONZE Фасад шкафа - тонированное стекло в цв бронза. Остальные элементы - ЛДСП в цв. Серый Камень. Рамка и интегрированная в неё ручка в цв.бронза. | H23: 53075
C24: AU4520/GBR/S/R.U727
C25: AU4520/GBL/S/L.U999 | G25: GLASS BLACK Фасад шкафа - темное тонированное стекло в рамке. Остальные элементы - ЛДСП в черном цвете. Рамка и интегрированная в неё ручка в черном цвете.
C26: AU4520/GBL/S/R.U999
A27: 8 | C27: AU0920/L7BR/S.U727 | D27: Шкаф 2-х дверный для документов (двери ЛДСП) | F27: 900*420*2050 | G27: СЕРЫЙ КАМЕНЬ Все элементы шкафа ЛДСП. Профиль-ручки - в цвете бронза. | H27: 49567
C28: AU0920/L9BL/S.U999 | G28: Черный U999 Все элементы шкафа ЛДСП. Профиль-ручки - в черном цвете. Фасады - премиальная ЛДСП EGGER | H28: 59181
A29: 9 | C29: AU0920/L7BR/W.U727 | D29: Шкаф 2-х дверный гардероб (двери ЛДСП) | F29: 900*420*2050 | G29: СЕРЫЙ КАМЕНЬ Все элементы шкафа ЛДСП. Профиль-ручки - в цвете бронза. | H29: 44669
C30: AU0920/L9BL/W.U999 | G30: Черный U999 Все элементы шкафа ЛДСП. Профиль-ручки - в черном цвете. Фасады - премиальная ЛДСП EGGER | H30: 53024
A31: 10 | C31: AU0920/V29BR/S.U727 | D31: Шкаф 2-х дверный для документов (двери шпон) | F31: 900*420*2050 | G31: TA29YA Фасады шкафа - шпон в тонировке Кофейный орех. Остальные элементы - ЛДСП в цв. Серый Камень. Профиль-ручки в цв.бронза. | H31: 85001
C32: AU0920/V28BL/S.U999 | G32: TA28YA Фасады шкафа - шпон в тонировке Жженый дуб. Остальные элементы - ЛДСП в черном цвете. Профиль-ручки в черном цвете. | H32: 90729
A33: 11 | C33: AU0920/V29BR/W.U727 | D33: Шкаф 2-х дверный гардероб (двери шпон) | F33: 900*420*2050 | G33: TA29YA Фасады шкафа - шпон в тонировке Кофейный орех. Остальные элементы - ЛДСП в цв. Серый Камень. Профиль-ручки в цвете бронза. | H33: 87672
C34: AU0920/V28BL/W.U999 | G34: TA28YA Фасады шкафа - шпон в тонировке Жженый дуб. Остальные элементы - ЛДСП в черном цвете. Профиль-ручки в черном цвете. | H34: 87672
A35: 12 | C35: AU0920/GBR/S.U727 | D35: Шкаф 2-х дверный для документов (двери cтекло) | F35: 900*420*2050 | G35: GLASS BRONZE Фасады шкафа - тонированное стекло в цв бронза. Остальные элементы - ЛДСП в цв. Серый Камень. Рамки и интегрированные в них ручки в цв.бронза. | H35: 93581
C36: AU0920/GBL/S.U999 | G36: GLASS BLACK Фасады шкафа - темное тонированное стекло в рамке. Остальные элементы - ЛДСП в черном цвете. Рамки и интегрированные в них ручки в черном цвете. | H36: 99311
A37: 13 | C37: AU1820/L7BR/S.U727 | D37: Шкаф 4-х дверный для документов (двери ЛДСП) | F37: 1800*420*2050 | G37: Все элементы шкафа ЛДСП. Профиль-ручки оригинальной формы, 4 двери. AD1820L-S.U727, AD1820L-W.U727 - цвет ЛДСП: Серый камень, ручки бронза. AD1820L-S.U727, AD1820L-W.U 999 - Цвет ЛДСП: черный, ручки - черные. | H37: 117196
C38: AU1820/L9BL/S.U999 | H38: 121287
A39: =A37+1 -> 14 | C39: AU1820/L7BR/W.U727 | D39: Шкаф 4-х дверный, гардероб в центре (двери ЛДСП) | H39: 117196
C40: AU1820/L9BL/W.U999 | H40: 121287
A41: =A39+1 -> 15 | C41: AU1820/GBR/S.U727 | D41: Шкаф с 4-мя стеклянными дверями | F41: 1800*420*2050 | G41: Все элементы корпуса шкафа ЛДСП. Интегрированные в рамку ручки, 4 двери. Двери - тонированное стекло в алюминиевой раме. AD1820G-S.U727 - бронзовое стекло в бронзовой рамке. AD1820G-S.U999 - темное тонированное стекло в черной рамке. | H41: 198927
C42: AU1820/GBL/S.U999 | H42: 201134
A43: =A41+1 -> 16 | C43: AU1820/V29BR/GBR/S.U727 | D43: Шкаф комбинированный для документов 4-х дверный (шпон/стекло) | F43: 1800*420*2050 | G43: Глухие фасады шкафа - шпон. Крайние фасады - тонированное стекло в алюм. рамке. Остальные элементы - ЛДСП. Интегрированные в рамку ручки на стеклянных фасадах в цвет рамки. У шкафа для документов при сборке шпонированные и стеклянные фасады можно поменять местами. AD1820VG-S.U727, AD1820VG-W.U727 - бронзовое стекло в бронзовой рамке. Корпус ЛДСП - Серый камень. AD1820VG-S.U999, AD1820VG-W.U999 - темное тонированное стекло в черной рамке. Корпус ЛДСП - черный. | H43: 193821
C44: AU1820/V28BL/GBL/S.U999
A45: =A43+1 -> 17 | C45: AU1820/V29BR/GBR/W.U727 | D45: Шкаф комбинированный 4-х дверный, гардероб в центре (шпон/стекло)
C46: AU1820/V28BL/GBL/W.U999
A47: =A45+1 -> 18 | C47: AU1820/L7BR/GBR/S.U727 | D47: Шкаф комбинированный для документов 4-х дверный (ЛДСП/стекло) | F47: 1800*420*2050 | G47: Глухие фасады и каркас шкафа - ЛДСП. Крайние фасады - тонированное стекло в алюм. рамке. Остальные элементы - ЛДСП. Интегрированные в рамку ручки на стеклянных фасадах в цвет рамки. У шкафа для документов при сборке глухие и стеклянные фасады можно поменять местами. AD1820LG-S.U727, AD1820LG-W.U727 бронзовое стекло в бронзовой рамке. Корпус и глухие фасады - ЛДСП Серый камень. AD1820LG-S.U999, AD1820LG-W.U999 темное тонированное стекло в черной рамке. Корпус и глухие фасады - ЛДСП черного цвета. | H47: 182286
C48: AU1820/L9BL/GBL/S.U999
A49: =A47+1 -> 19 | C49: AU1820/L7BR/GBR/W.U727 | D49: Шкаф комбинированный 4-х дверный, гардероб в центре (ЛДСП/стекло)
C50: AU1820/L9BL/GBL/W.U999
A51: =A49+1 -> 20 | C51: AU1820/V29BR/S.U727 | D51: Шкаф 4-х дверный для документов (двери шпон) | F51: 1800*420*2050 | G51: Фасады шкафа шпон. Остальные элементы - ЛДСП. Ручки оригинальной формы. AD1820V-S.U727, AD1820V-W.U727 бронзовые ручки. Корпус ЛДСП - Серый камень. AD1820V-S.U999, AD1820V-W.U999 черные ручки. Корпус ЛДСП - черный. | H51: 199547
C52: AU1820/V28BL/S.U999
A53: =A51+1 -> 21 | C53: AU1820/V29BR/W.U727 | D53: Шкаф 4-х дверный, гардероб в центре (двери шпон)
C54: AU1820/V28BL/W.U999
A55: =A53+1 -> 22 | C55: AU0420.TA29YA AU0420.TA28YA | D55: Комплект шпонированных боковин | F55: 420*25*2020 | G55: Шпон, цена за 2 шт. Кофейный орех TA29YA, Жженый дуб TA28YA | H55: 37909
A56: =A55+1 -> 23 | C56: AU1212A/V28.U999 AU1212A/V29.U727 | D56: Крайний сектор стола переговоров модуль A | F56: 1200*1200*750 | G56: Толщина столешниц и опор 35мм в стандартную комплектацию входит блок розеток : 3 EURO розетки, и 2 RJ45, провод 2.5м. 1. Столешница - шпон: Жженый дуб ТА28YA или Кофейный орех TA29YA. 2. Остальные поверхности - ЛДСП. | H56: 77020
A57: =A56+1 -> 24 | C57: AU1212B/V28.U999 AU1212B/V29.U727 | D57: Серединный сектор стола переговоров модуль B | F57: 1200*1200*750 | G57: Толщина столешниц и опор 35мм в стандартную комплектацию входит блок розеток : 3 EURO розетки, 2 и 2 RJ45, провод 2.5м Для стола 3,6 м(А+В+А) 1. Столешница - шпон: Жженый дуб ТА28YA или Кофейный орех TA29YA. 2. Остальные поверхности - ЛДСП. | H57: 73473
A58: =A57+1 -> 25 | C58: AU1212C/V28.U999 AU1212С/V29.U727 | D58: Серединный сектор стола переговоров модуль C | F58: 1200*1200*750 | G58: Толщина столешниц и опор 35мм в стандартную комплектацию входит блок розеток : 3 EURO розетки, 2 и 2 RJ45, провод 2.5м Для стола 4,8 м(А+В+С+А) Для стола 6 м(А+В+2С+А) 1. Столешница - шпон: Жженый дуб ТА28YA или Кофейный орех TA29YA. 2. Остальные поверхности - ЛДСП. | H58: 77627
A59: =A58+1 -> 26 | C59: AU1212/V28.U999 AU1212/V29.U727 | D59: Стол квадратный | F59: 1200*1200*750 | G59: Толщина столешниц и опор 35мм в стандартную комплектацию входит блок розеток : 3 EURO розетки, 2 и 2 RJ45, провод 2.5м 1. Столешница - шпон: Жженый дуб ТА28YA или Кофейный орех TA29YA. 2. Остальные поверхности - ЛДСП. | H59: 77025
A60: =A59+1 -> 27 | C60: AU2412/V29.U727 AU2412/V28.U999 | D60: Стол переговоров 2400 | F60: 2400*1200*750 | G60: Толщина столешниц и опор 35мм в стандартную комплектацию входит 2 блока розеток : 3 EURO розетки, 2 и 2 RJ45, провод 2.5м 1. Столешница - шпон: Жженый дуб ТА28YA или Кофейный орех TA29YA. 2. Остальные поверхности - ЛДСП. | H60: 146530
A61: =A60+1 -> 28 | C61: AU0907/V29.U727 AU0907/V28.U999 | D61: Низкий шкаф (греденция) с 2-мя дверками | F61: 900*420*700 | G61: Верхний топ - шпон: Жженый дуб ТА28YA или Кофейный орех TA29YA. Боковины, Фасады и вн. наполнение шкафа ЛДСП AU0907/V29.U727 - cерый камень. AU0907/V28.U999 - черный. | H61: 35172
A62: 28 | C62: AU1807/V29.U727 AU1807/V28.U999 | D62: Низкий шкаф (греденция) с 4-мя дверками | F62: 1800*420*700 | G62: Верхний топ - шпон: Жженый дуб ТА28YA или Кофейный орех TA29YA. Боковины, Фасады и вн. наполнение шкафа ЛДСП AU1807/V29.U727 - cерый камень. AU1807/V28.U999 - черный. | H62: 69660
A63: Нескладская программа
A64: 29 | C64: AU1608/V29.U727 AU1608/V28.U999 | D64: Стол с короткой тумбой (универсальный) 1,6м. | E64: на фото правый стол(R) | F64: 1600*800*750 | G64: Столешница, опоры, фасады ящиков из шпона: Жженый дуб ТА28YA или Кофейный орех TA29YA. Остальные элементы из ламинированной плиты. Толщина столешницы и опоры 35мм в стандартную комплектацию входит блок розеток : 3 EURO розетки, 2шт.USB, 2шт.RJ45, с выключателем провод 1.8м | H64: 122400
A65: 30 | C65: AU2008/V29.U727 AU2008/V28.U999 | D65: Стол с короткой тумбой (универсальный) 2,0м. | F65: 2000*800*750 | G65: Толщина столешницы и опоры 35мм в стандартную комплектацию входит блок розеток : 3 EURO розетки, 2шт.USB, 2шт.RJ45, с выключателем провод 1.8м. Столешница, опоры, фасады ящиков из шпона. Остальные элементы из ламинированной плиты. | H65: 147900
A66: =A65+1 -> 31 | C66: AU1818/V29.U727 AU1818/V28.U999 | D66: Стол с длиной тумбой (универсальный) 1,8м. | F66: 1800*1800*750 | G66: Толщина столешницы и опоры 35мм в стандартную комплектацию входит блок розеток : 3 EURO розетки, 2шт.USB, 2шт.RJ45, с выключателем провод 1.8м Столешница, опоры, фасады ящиков из шпона. Остальные элементы из ламинированной плиты. | H66: 153000
A67: Однодверные шкафы правые - петли двери - справа (клиент перед шкафом). У левых однодверных шкафов петли двери слева (клиент перед шкафом)
A68: Комплект (Стол руководителя, шкаф 4х дверный с гардеробом)
A69: Состав комплекта | H69: Розничная цена
A70: Стол с короткой тумбой (универсальный) 1,8м., AU1808/V29.U727, Шкаф комбинированный 4-х дверный, гардероб в центре (ЛДСП/стекло) 1800*420*2050 AU1820/L7BR/GBR/W.U727 или AU1820/L9BL/GBL/W.U999, AU1808/V29.U999 | H70: =H7+H47 -> 319986
A71: Универсальные столы могут быть с правым или левыми расположением тумбы, которое определяется при сборке.
A72: Товар не предназначен для продажи на маркетплейсах
C73: Подробнее на сайте: | E73: АУРУС | AURUS

Sheet ANTEY
B1: =FLASH!H2 -> 46241
A3: Кабинет руководителя АНТЕЙ | ANTEY
A5: Внимание! Стол руководителя оборудован лючком кабель-канала с правой стороны.
A6: Складская программа
A7: № | B7: Артикул | C7: Иллюстрация | D7: Наименование | E7: Размер (ДхШхВ), мм | F7: Розничная цена
A8: 1 | B8: AN107.KZMUS | D8: ANTEY Стол руководителя с кожаной панелью и вставкой в цв. Муссон | E8: 1850*950*760 | F8: 130000
A9: =A8+1 -> 2 | B9: AN101.KZMUS | E9: 2000*950*760 | F9: 151668
A10: =A9+1 -> 3 | B10: AN201.H3190 | D10: ANTEY Брифинг-приставка | E10: 1000*600*760 | F10: 51712
A11: =A10+1 -> 4 | B11: AN202.KZMUS | D11: ANTEY Боковая приставка со столешницей с кожаной отделкой в цв. Муссон | E11: 900*540*760 | F11: 45909
A12: =A11+1 -> 5 | B12: AN701.H3190 | D12: ANTEY Стол переговоров | E12: 2200*1100*760 | F12: 167489
A13: =A12+1 -> 6 | B13: AN501.H3190 | D13: ANTEY Стеновая панель фрезеровка, - квадраты | E13: 1200*370*1550 | F13: 89850
A14: =A13+1 -> 7 | B14: AN301.H3190 | D14: ANTEY Тумба под стеновую панель (используется только в комплектации со стеновой панелью) | E14: 1200*485*450 | F14: 35272
A15: =A14+1 -> 8 | B15: AN401.H3190 | D15: ANTEY Шкаф с полками | E15: 550*485*2000 | F15: 50840
A16: =A15+1 -> 9 | B16: AN402.H3190 | D16: ANTEY Шкаф-гардероб | E16: 550*485*2000 | F16: 46818
A17: =A16+1 -> 10 | B17: AN404.H3190 | D17: ANTEY Шкаф-гардероб | E17: 900*485*2000 | F17: 74080
A18: =A17+1 -> 11 | B18: AN403.H3190 | D18: ANTEY Шкаф с полками | E18: 900*485*2000 | F18: 73715
A19: =A18+1 -> 12 | B19: AN405.H3190 | D19: ANTEY Шкаф с полками со стеклянной дверкой и подсветкой | E19: 550*485*2000 | F19: 78194
A20: =A19+1 -> 13 | B20: AN602.KZMUS | D20: Греденция малая с кожаной вставкой в цв. Муссон | E20: 900x485x700 | F20: 57347
A21: =A20+1 -> 14 | B21: AN801.KZMUS | D21: ANTEY Журнальный стол с кожаной вставкой в цв. Муссон | E21: 600х600х450 | F21: 22273
A22: Программа под заказ
A23: Заказные изделия изготавливаются при заявке от 600 т.р. в розничных ценах.
A24: № | B24: Артикул | C24: Иллюстрация | D24: Наименование | E24: Размер (ДхШхВ), мм | F24: Розничная цена
A25: 15 | B25: AN107.KZBUR | D25: ANTEY Стол руководителя с кожаной панелью и вставкой в цв. Бургунди. | E25: 1850*950*760 | F25: 130000
A26: =A25+1 -> 16 | B26: AN101.KZBUR | E26: 2000*950*760 | F26: 151668
A27: =A26+1 -> 17 | B27: AN104.KZMUS | D27: ANTEY Стол руководителя с кожаной панелью и вставкой в цв. Муссон или Бургунди | E27: 2200*950*760 | F27: 174765
A28: =A27+1 -> 18 | B28: AN104.KZBUR | F28: 174765
A29: =A28+1 -> 19 | B29: AN108.KZMUS | D29: ANTEY Стол руководителя с рейками и кожаной вставкой в цв. Муссон или Бургунди | E29: 1850*950*760 | F29: 161222
A30: =A29+1 -> 20 | B30: AN108.KZBUR | F30: 161222
A31: =A30+1 -> 21 | B31: AN102.KZMUS | D31: ANTEY Стол руководителя с рейками и кожаной вставкой в цв. Муссон или Бургунди | E31: 2000*950*760 | F31: 168251
A32: =A31+1 -> 22 | B32: AN102.KZBUR | F32: 168251
A33: =A32+1 -> 23 | B33: AN105.KZMUS | D33: ANTEY Стол руководителя с рейками и кожаной вставкой в цв. Муссон или Бургунди | E33: 2200*950*760 | F33: 171349
A34: =A33+1 -> 24 | B34: AN105.KZBUR | F34: 171349
A35: =A34+1 -> 25 | B35: AN109.KZMUS | D35: ANTEY Стол руководителя с фронтальными панелями и кожаной вставкой в цв. Муссон или Бургунди | E35: 1850*950*760 | F35: 152455
A36: =A35+1 -> 26 | B36: AN109.KZBUR | F36: 152455
A37: =A36+1 -> 27 | B37: AN103.KZMUS | D37: ANTEY Стол руководителя с фронтальными панелями и кожаной вставкой в цв. Муссон или Бургунди | E37: 2000*950*760 | F37: 159486
A38: =A37+1 -> 28 | B38: AN103.KZBUR | F38: 159486
A39: =A38+1 -> 29 | B39: AN106.KZMUS | D39: ANTEY Стол руководителя с фронтальными панелями и кожаной вставкой в цв. Муссон или Бургунди | E39: 2200*950*760 | F39: 162583
A40: =A39+1 -> 30 | B40: AN106.KZBUR | F40: 162583
A41: =A40+1 -> 31 | B41: AN202.KZBUR | D41: ANTEY Боковая приставка со столешницей с кожаной отделкой в цв. Бургунди | E41: 900*540*760 | F41: 45909
A42: =A41+1 -> 32 | B42: AN702.H3190 | D42: ANTEY Стол переговоров (2 стандартных кабель-канала) | E42: 2400*1100*760 | F42: 175007
A43: =A42+1 -> 33 | B43: AN703.H3190 | E43: 2600*1100*760 | F43: 181989
A44: =A43+1 -> 34 | B44: AN701B.H3190 | D44: ANTEY Стол переговоров (2 блока 2-220В + блок USB Type-A,C; на шине HDMI, RJ45) | E44: 2200*1100*760 | F44: 190634
A45: =A44+1 -> 35 | B45: AN702B.H3190 | E45: 2400*1100*760 | F45: 198766
A46: =A45+1 -> 36 | B46: AN703B.H3190 | E46: 2600*1100*760 | F46: 206302
A47: =A46+1 -> 37 | B47: AN601.KZMUS | D47: ANTEY Греденция с кожаной вставкой в цв. Муссон или Бургунди | E47: 2000x485x700 | F47: 115382
A48: =A47+1 -> 38 | B48: AN601.KZBUR | F48: 115382
A49: =A48+1 -> 39 | B49: AN602.KZBUR | D49: Греденция малая с кожаной вставкой в цв. Бургунди | E49: 900x485x700 | F49: 57347
A50: =A49+1 -> 40 | B50: AN803.KZMUS | D50: ANTEY Журнальный стол с кожаной вставкой в цв. Муссон | E50: 800х800х300 | F50: 33254
A51: =A50+1 -> 41 | B51: AN803.KZBUR | D51: ANTEY Журнальный стол с кожаной вставкой в цв. Бургунди
A52: =A51+1 -> 42 | B52: AN801.KZBUR | D52: ANTEY Журнальный стол с кожаной вставкой в цв. Бургунди | E52: 600х600х450 | F52: 22273
A53: =A52+1 -> 43 | B53: AN802.KZMUS | D53: ANTEY Журнальный стол с кожаной вставкой в цв. Муссон или Бургунди | E53: 1200х600х450 | F53: 29826
A54: =A53+1 -> 44 | B54: AN802.KZBUR | F54: 29826
A55: =A54+1 -> 45 | B55: AN502.H3190 | D55: ANTEY Стеновая панель фрезеровка, - полоски | E55: 1200*370*1550 | F55: 87370
A57: Комплект (Стол письменный+тумба подкатная, шкаф для документов, гардероб)
A58: Состав комплекта | F58: Розничная цена
A59: AN107 Стол руководителя с 2-мя тумбами 185 см AN301 Тумба 120 см - 1 шт. AN501 Стеновая панель - 1 шт AN402 Шкаф-гардероб | F59: =F9+F13+F14+F16 -> 323608

Sheet GENESIS
E3: ГЕНЕЗИС | GENESIS
F5: =FLASH!H2 -> 46241
A6: Складкая программа
A7: № | B7: Артикул | C7: Иллюстрация | D7: Наименование | E7: Размер (ДхШхВ), мм | F7: Розничная цена, руб.
A8: 1 | B8: JNS110/DX.U727ST | D8: Рабочая станция правая | E8: 2150х1700х750 | F8: 140195
B9: JNS110/DX.ANT
A10: =A8+1 -> 2 | B10: JNS110/SX.U727ST | D10: Рабочая станция левая | E10: 2150х1700х750 | F10: 140195
B11: JNS110/SX.ANT | F11: 132658
A12: =A10+1 -> 3 | B12: JNS101.U727ST | D12: Стол руководителя | E12: 1750х900х750 | F12: 97132
B13: JNS101.ANT | F13: 92157
A14: =A12+1 -> 4 | B14: JNS102.U727ST | D14: Стол руководителя (поставляется только в комплекте с брифингом JNS601, который преобретается отдельно). | E14: 1950х900х750 | F14: 104264
B15: JNS102.ANT | F15: 98924
A16: =A14+1 -> 5 | B16: JNS701NEW.U727 | D16: Стол переговорный | E16: 2400х1200х750 | F16: 145820
B17: JNS701NEW.ANT | F17: 138321
A18: =A16+1 -> 6 | B18: JNS801.U727 | D18: Фронталь 1380 для стола прямого | E18: 1380х400х18 | F18: 6452
B19: JNS801.ANT | F19: 6031
A20: =A18+1 -> 7 | B20: JNS803.U727 | D20: Фронталь 1680 для рабочей станции | E20: 1680х400х18 | F20: 6961
B21: JNS803.ANT | F21: 6577
A22: =A20+1 -> 8 | B22: JNS804.U727 | D22: Фронталь для стола 1950 | E22: 1580х400х16 | F22: 6864
B23: JNS804.ANT | F23: 6457
A24: =A22+1 -> 9 | B24: JNS805.U727 | D24: Фронталь для стола 1750 с брифингом | E24: 1380х400х16 | F24: 6198
B25: JNS805.ANT | F25: 5802
A26: =A24+1 -> 10 | B26: JNS806.U727 | D26: Фронталь для стола 1950 с брифингом | E26: 1580х400х16 | F26: 6652
B27: JNS806.ANT | F27: 6266
A28: =A26+1 -> 11 | B28: JNS808.U727 | D28: Фронталь для стола рабочей станции с брифингом | E28: 1680х400х16 | F28: 6893
B29: JNS808..ANT | F29: #N/A
A30: =A28+1 -> 12 | B30: JNS601.U727ST | D30: Брифинг-приставка | E30: 1200х600х750 | F30: 51651
B31: JNS601.ANT | F31: 48761
A32: =A30+1 -> 13 | B32: JNS201.U727 | D32: Тумба мобильная | E32: 440х550х602 | F32: 51329
B33: JNS201.ANT | F33: 46975
A34: =A32+1 -> 14 | B34: JNS921.U727 | D34: Шкаф низкий | E34: 900x420x735 | F34: 28780
B35: JNS921.ANT | F35: 26441
A36: =A34+1 -> 15 | B36: JNS922.U727 | D36: Шкаф низкий с боковыми стеллажами | E36: 1400x420x735 | F36: 40496
B37: JNS922.ANT | F37: #N/A
A38: =A36+1 -> 16 | B38: JNS923.U727 | D38: Двойной шкаф низкий с боковыми стеллажами | E38: 2300x420x735 | F38: 70486
B39: JNS923.ANT | F39: #N/A
A40: =A38+1 -> 17 | B40: JNS924.U727 | D40: Шкаф средний универсальный (двери ЛДСП) | E40: 900x420x1440 | F40: 40755
B41: JNS924.ANT | F41: #N/A
A42: =A40+1 -> 18 | B42: JNS925.U727 | D42: Шкаф средний универсальный с боковыми стеллажами (двери ЛДСП) | E42: 1400x420x1440 | F42: 61559
B43: JNS925.ANT | F43: #N/A
A44: =A42+1 -> 19 | B44: JNS926.U727 | D44: Двойной шкаф средний универсальный с боковыми стеллажами (двери ЛДСП) | E44: 2300x420x1440 | F44: 103523
B45: JNS926.ANT | F45: #N/A
A46: =A44+1 -> 20 | B46: JNS927.U727 | D46: Шкаф средний универсальный (двери в ал. рамке) | E46: 900x420x1440 | F46: 66221
B47: JNS927.ANT | F47: #N/A
A48: =A46+1 -> 21 | B48: JNS928.U727 | D48: Шкаф средний универсальный с боковыми стеллажами (двери в ал. рамке) | E48: 1400x420x1440 | F48: 87025
B49: JNS928.ANT | F49: #N/A
A50: =A48+1 -> 22 | B50: JNS929.U727 | D50: Двойной шкаф средний универсальный с боковыми стеллажами (двери в ал. рамке) | E50: 2300x420x1440 | F50: 154455
B51: JNS929.ANT | F51: #N/A
A52: =A50+1 -> 23 | B52: JNS930.U727 | D52: Гардероб | E52: 900x420x2100 | F52: 49505
B53: JNS930.ANT | F53: #N/A
A54: =A52+1 -> 24 | B54: JNS931.U727 | D54: Шкаф высокий комбинированный (двери в ал. рамке) | E54: 900x420x2100 | F54: 85591
B55: JNS931.ANT | F55: 79300
A56: =A54+1 -> 25 | B56: JNS932.U727 | D56: Шкаф высокий (двери в ал. рамке) | E56: 900x420x2100 | F56: 89373
B57: JNS932.ANT | F57: #N/A
A58: =A56+1 -> 26 | B58: JNS933.U727 | D58: Гардероб с боковыми стеллажами | E58: 1400x420x2100 | F58: 80468
B59: JNS933.ANT | F59: #N/A
A60: =A58+1 -> 27 | B60: JNS934.U727 | D60: Шкаф высокий комбинированный с боковыми стеллажами (двери в ал. рамке) | E60: 1400x420x2100 | F60: 116554
B61: JNS934.ANT | F61: #N/A
A62: =A60+1 -> 28 | B62: JNS935.U727 | D62: Шкаф высокий с боковыми стеллажами (двери в ал. рамке) | E62: 1400x420x2100 | F62: 120334
B63: JNS935.ANT | F63: #N/A
A64: =A62+1 -> 29 | B64: JNS936.U727 | D64: Двойной шкаф (для документов +гардероб) с боковыми стеллажами (двери ЛДСП) | E64: 2300x420x2100 | F64: 136605
B65: JNS936.ANT | F65: #N/A
A66: =A64+1 -> 30 | B66: JNS937.U727 | D66: Двойной шкаф комбинированный (для документов) с боковыми стеллажами (двери в ал. рамке) | E66: 2300x420x2100 | F66: 203354
B67: JNS937.ANT | F67: 185948
A68: =A66+1 -> 31 | B68: JNS938.U727 | D68: Двойной шкаф (для документов + гардероб) с боковыми стеллажами (двери в ал. рамке) | E68: 2300x420x2100 | F68: 210916
B69: JNS938.ANT | F69: #N/A
A70: =A68+1 -> 32 | B70: JNS939.U727 | D70: Стеллаж с малыми дверьми | E70: 900x420x2100 | F70: 47295
B71: JNS939.ANT | F71: #N/A
A72: =A70+1 -> 33 | B72: JNS940.U727 | D72: Двойной стеллаж с малыми дверьми | E72: 1800x420x2100 | F72: 95934
B73: JNS940.ANT | F73: #N/A
A74: =A72+1 -> 34 | B74: JNS941.U727 | D74: Двойной шкаф средний универсальный с боковыми стеллажами (двери в ал. рамке и ЛДСП) | E74: 2300x420x1400 | F74: 128989
B75: JNS941.ANT | F75: #N/A
A76: =A74+1 -> 35 | B76: JNS942.U727 | D76: Шкаф высокий и гардероб с боковыми стеллажами (двери в ал. рамке и ЛДСП) | E76: 2300x420x2055 | F76: 171050
B77: JNS942.ANT | F77: #N/A
A78: Распродажа (Скидка 50% на остатки в наличии на дату формирования прайса)
A79: № | B79: Артикул | C79: Иллюстрация | D79: Наименование | E79: Размер (ДхШхВ), мм | F79: Розничная цена, руб.
A80: 36 | B80: JNS416O.B | D80: Корпус шкафа среднего | E80: 900х400х1361 | F80: 20666
A81: =A80+1 -> 37 | B81: JNS404O.B | D81: Корпус гардероба | E81: 900х400х2020 | F81: 27229
A82: =A81+1 -> 38 | B82: JNS414O.B | D82: Корпус гардероба среднего | E82: 900х400х1361 | F82: 18849
A83: =A82+1 -> 39 | B83: JNS425O.U727 | D83: Стеллаж боковой низкий | E83: 420х250х662 | F83: 4748
A84: =A83+1 -> 40 | B84: JNS415O.U727 | D84: Стеллаж боковой средний | E84: 420х250х1361 | F84: 8834
A85: =A84+1 -> 41 | B85: JNS405O.U727 | D85: Стеллаж боковой высокий | E85: 420х250х2020 | F85: 12943
A86: =A85+1 -> 42 | B86: JNS418O.U727 | D86: Боковина декоративная средняя (1шт.) | E86: 1379х420х18 | F86: 3707
A87: =A86+1 -> 43 | B87: JNS407O.U727 | C87: для шкафов | D87: Декоративный цоколь+топ 90 | E87: Топ 934x420x16 Цоколь 900х400х60 | F87: 7601
A88: =A87+1 -> 44 | B88: JNS408O.U727 | D88: Декоративный топ и цоколь 1800 | E88: Топ 1833x420x16 Цоколь 1800х400х60 | F88: 14007
A89: =A88+1 -> 45 | B89: JNS410O.U727 | C89: для шкафов с боковыми стеллажами | D89: Декоративный топ 140 +цоколь 90 | E89: Топ 1400х420х18 Цоколь 900х400x60 | F89: 8846.46
A90: =A89+1 -> 46 | B90: JNS411O.U727 | D90: Декоративный топ 2300 и цоколь 1800 | E90: Топ 2300х420x18 Цоколь 900х400x60 | F90: 15263.28
A91: =A90+1 -> 47 | B91: JNS412O.U727 | D91: Декоративный топ 115 +цоколь 90 | E91: Топ 1168х420x18 Цоколь 900х400x60 | F91: 8218.14
A92: =A91+1 -> 48 | B92: JNS413O.U727 | D92: Декоративный топ 205 и цоколь 180 | E92: Топ 2050х420x18 Цоколь 1800х400x61 | F92: 14586
A93: Комплекты дверей к корпусам (Скидка 50% на остатки в наличии в наличии на дату формирования прайса)
A94: № | B94: Артикул | C94: Иллюстрация | D94: Наименование | E94: Размер (ДхШхВ), мм | F94: Розничная цена, руб. | G94: Цена со скидкой 50% руб.
A95: 49 | B95: JNS501.U727 | D95: Двери малые | E95: 900х20х654 | F95: 8145.72 | G95: =ROUND(F95*0.6,0) -> 4887
A96: =A95+1 -> 50 | B96: JNS502.U727 | D96: Двери средние ДСП | E96: 900х20х1357 | F96: 11757.54 | G96: =ROUND(F96*0.6,0) -> 7055
A97: =A96+1 -> 51 | B97: JNS503.U727 | D97: Двери большие ДСП | E97: 900х20х2016 | F97: 15019.5 | G97: =ROUND(F97*0.6,0) -> 9012
A98: =A97+1 -> 52 | B98: JNS503G.G | D98: Двери большие стеклянные тонированные в цв. коллекции в алюм. раме | E98: 900х20х2016 | F98: 50882 | G98: =ROUND(F98*0.6,0) -> 30529
A99: На распродажные позиции цены действуют только на остатки на складе
A100: Стеклянные двери отдельно не продаются
A101: Программа под заказ
A102: № | B102: Артикул | C102: Иллюстрация | D102: Наименование | E102: Размер (ДхШхВ), мм | F102: Розничная цена, руб.
A103: 49 | B103: JNS105.U727ST | D103: Стол руководителя с опорной тубой (универсальный) | E103: 2250х900х750 | F103: 153573
...

Sheet KYU DM Light
A2: Кабинет руководителя КИУ ДМ | KYU DM | F2: =FLASH!H2 -> 46241
A5: Складcдкая программа
A6: № | B6: Артикул | C6: Иллюстрация | D6: Наименование | E6: Размер (ДхШхВ), мм | F6: Розничная цена, руб.
A7: 1 | B7: KYU18.U003 | D7: Стол письменный | E7: 1800*900*750 | F7: 126920
B8: KYU18.U999PM | F8: #N/A
A9: 2 | B9: KYU22ADX.U003 | D9: Стол письменный (правый) | E9: 2200*2000*750 | F9: 164945
B10: KYU22ADX.U999PM | F10: #N/A
A11: 3 | B11: KYU22ASX.U003 | D11: Стол письменный (левый) | F11: 164945
B12: KYU22ASX.U999PM | F12: #N/A
A13: =1+A11 -> 4 | B13: KYUM80.U003 | D13: Тумба подкатная c 3-мя ящиками | E13: 800*438*500 | F13: 65934
B14: KYUM80.U999PM | F14: #N/A
A15: =1+A13 -> 5 | B15: KYUM45.U003 | D15: Тумба подкатная c 3-мя ящиками | E15: 450*550*600 | F15: 58926
B16: KYUM45.U999PM | F16: #N/A
A17: =1+A15 -> 6 | B17: KYU13.U003 | D17: Конференц-приставка 1300*700*750 | E17: 1300*700*750 | F17: 64497
B18: KYU13.U999PM | F18: #N/A
A19: =1+A17 -> 7 | B19: KYU8080.U003 | D19: Стол журнальный 800*800*470 | E19: 800*800*470 | F19: 25247
B20: KYU8080.H3398 | F20: #N/A
A21: =1+A19 -> 8 | B21: KYU2212.U003 | D21: Стол совещаний | E21: 2200*1200*750 | F21: 96719
B22: KYU2212.H3398 | F22: #N/A
A23: =1+A21 -> 9 | B23: KYU1215U.U003 | D23: Шкаф двухдверный универсальный | E23: 900*440*2200 | F23: 96879
B24: KYU1215U.U999PM | F24: 106969
A25: =1+A23 -> 10 | B25: KYU1215.U003 | D25: Шкаф двухдверный (стекл. фасад) | E25: 900*440*2200 | F25: 143008
B26: KYU1215.GBL | F26: #N/A
A27: =1+A25 -> 11 | B27: KYU7790.U003 | D27: Греденция | E27: 900*440*775 | F27: 38447
B28: KYU7790.U999PM | F28: 42485
A29: =1+A27 -> 12 | B29: KYU2150.U003 | D29: Греденция | E29: 1820*500*750 | F29: 137067
B30: KYU2150.U999PM | F30: #N/A
A31: =1+A29 -> 13 | B31: KYUST149025.U003 | D31: Стеновая панель с полками | E31: 900*230*1434 | F31: 33945
B32: KYUST149025.U999PM | F32: #N/A
A33: =1+A31 -> 14 | B33: KYU1873.U003 | D33: Ресепшен 1800 | E33: 1800*730*1200 | F33: 87507
B34: KYU1873.H3398 | F34: #N/A
A35: Программа под заказ
A36: =A33+1 -> 15 | B36: KYU1073.U003 | D36: Ресепшен 1000 | E36: 1000*730*1200 | F36: 57517
B37: KYU1073.H3398
A38: =A36+1 -> 16 | B38: KYU1473.U003 | D38: Ресепшен 1400 | E38: 1400*730*1200 | F38: 72907
B39: KYU1473.H3398
A40: 1 Элементы программы "Под заказ"изготавливаются при условии заявки на сумму от 600 000р. в розничных ценах в рамках данной коллекции.
A42: Комплект (Стол руководителя+тумба подкатная, шкаф для документов, гардероб)
A43: Состав комплекта | F43: Розничная цена
A44: KYU18 (Стол рабочий 1,8 м), KYUM45 (Тумба подкатная), KYU 1215U (Шкаф двухдверный универсальный), KYU 1215G (Шкаф двухдверный, стекл. фасад). | F44: =F7+F15+F23+F25 -> 425733
A46: Подробнее о коллекции на нашем сайте | D46: KYU DM
A47: Товар не предназначен для продажи на маркетплейсах

Sheet ERA
A2: Кабинет руководителя ЭРА | ERA | F2: =FLASH!H2 -> 46241
A4: Складская программа | E4: Внутр. наполнение шкафов в ЛДСП Серый R2
A5: № | B5: Артикул | C5: Иллюстрация | D5: Наименование | E5: Размер (ДхШхВ), мм | F5: Розничная цена, руб.
A6: 1 | B6: JR102SX.H3154 | D6: Стол руководителя1 левый | E6: 2100х1000х792 | F6: 120567
A7: =A6+1 -> 2 | B7: JR102DX.H3154 | D7: Стол руководителя1 правый | E7: 2100х1000х792 | F7: #N/A
A8: =A7+1 -> 3 | B8: JR212SX.H3154 | D8: Тумба приставная удлиненная 2000 с двумя ящиками и дверьми левая | E8: 2000х600х480 | F8: 95907
A9: =A8+1 -> 4 | B9: JR212DX.H3154 | D9: Тумба приставная удлиненная 2000 с двумя ящиками и дверьми правая | E9: 2000х600х480 | F9: #N/A
A10: =A9+1 -> 5 | B10: JR601.H3154 | D10: Брифинг-приставка | E10: 1400х800х792 | F10: 79921
A11: =A10+1 -> 6 | B11: JR701.H3154 | D11: Стол переговорный | E11: 2400х1200х792 | F11: 184216
A12: =A11+1 -> 7 | B12: JR801.H3154 | D12: Стол кофейный | E12: 800х800х400 | F12: 44889
A13: =A12+1 -> 8 | B13: JR421/R2.H3154 | D13: Шкаф-тотем | E13: 700х500х2217 | F13: 87068
A14: =A13+1 -> 9 | B14: JR521/R2.H3154 | D14: Шкаф низкий | E14: 1000х500х787 | F14: 59463
A15: =A14+1 -> 10 | B15: JR522/R2.H3154 | D15: Двойной шкаф низкий | E15: 1900х500х787 | F15: 92654
A16: =A15+1 -> 11 | B16: JR527/R2.H3154 | D16: Гардероб | E16: 1000х628х2067 | F16: 131986
A17: =A16+1 -> 12 | B17: JR528/R2.H3154 | D17: Шкаф комбинированный | E17: 1000х628х2067 | F17: 155168
A18: =A17+1 -> 13 | B18: JR530/R2.H3154 | D18: Гардероб и шкаф комбинированный | E18: 1900х628х2067 | F18: 220861
A19: =A18+1 -> 14 | B19: JR526/R2.H3154 | D19: Тройной шкаф средний | E19: 2800х500х1567 | F19: 199438
A20: =A19+1 -> 15 | B20: JR901.KZNC | D20: Центральная опора навесных полок, отделка экокожа в цв. Nocciola | E20: 80х550х2000 | F20: 28284
A21: =A20+1 -> 16 | B21: JR902/R2.H3154 | D21: Навесная полка (2 двери) | E21: 900х400х620 | F21: 21471
A22: =A21+1 -> 17 | B22: JR903/R2.H3154 | D22: Навесная полка (1 дверь) | E22: 450х400х620 | F22: 15353
A23: Программа под заказ
A25: № | B25: Артикул | C25: Иллюстрация | D25: Наименование | E25: Размер (ДхШхВ), мм | F25: Розничная цена, руб.
A26: 18 | B26: JR102SX.H1199 | D26: Стол руководителя1 левый | E26: 2100х1000х792 | F26: 146567
B27: JR102SX.H1250
A28: =A26+1 -> 19 | B28: JR102DX.H1199 | D28: Стол руководителя1 правый
B29: JR102DX.H1250
A30: =A28+1 -> 20 | B30: JR212SX.H1199 | D30: Тумба приставная удлиненная 2000 с двумя ящиками и дверьми левая | E30: 2000х600х480 | F30: 111907
B31: JR212SX.H1250
A32: =A30+1 -> 21 | B32: JR212DX.H1199 | D32: Тумба приставная удлиненная 2000 с двумя ящиками и дверьми правая
B33: JR212DX.H1250
A34: =A32+1 -> 22 | B34: JR601.H1199 | D34: Брифинг-приставка | E34: 1400х800х792 | F34: 79921
B35: JR601.H1250
A36: =A34+1 -> 23 | B36: JR701.H1199 | D36: Стол переговорный | E36: 2400х1200х792 | F36: 184216
B37: JR701.H1250
A38: =A36+1 -> 24 | B38: JR801.H1199 | D38: Стол кофейный | E38: 800х800х400 | F38: 44889
B39: JR801.H1250
A40: =A38+1 -> 25 | B40: JR421/R2.H1199 | D40: Шкаф-тотем | E40: 700х500х2217 | F40: 87068
B41: JR421/R2.H1250
A42: =A40+1 -> 26 | B42: JR521/R2.H1199 | D42: Шкаф низкий | E42: 1000х500х787 | F42: 63590
B43: JR521/R2.H1250
A44: =A42+1 -> 27 | B44: JR522/R2.H1199 | D44: Двойной шкаф низкий | E44: 1900х500х787 | F44: 97836
B45: JR522/R2.H1250
A46: =A44+1 -> 28 | B46: JR528/R2.H1199 | D46: Шкаф комбинированный | E46: 1000х628х2067 | F46: 168254
B47: JR528/R2.H1250
A48: =A46+1 -> 29 | B48: JR527.H1199 | D48: Гардероб | E48: 1000х628х2067 | F48: 134846
B49: JR527.H1250
A50: =A48+1 -> 30 | B50: JR530/R2.H1199 | D50: Гардероб и шкаф комбинированный | E50: 1900х628х2067 | F50: 233037
B51: JR530/R2.H1250
A52: =A50+1 -> 31 | B52: JR526/R2.H1199 | D52: Тройной шкаф средний | E52: 2800х500х1567 | F52: 194987
B53: JR526/R2.H1250
A54: =A52+1 -> 32 | B54: JR901.KZMUS | D54: Центральная опора навесных полок, отделка экокожа в цв. Муссон или Маури | E54: 80х550х2000 | F54: 28284
B55: JR901.KZMAUR
A56: =A54+1 -> 33 | B56: JR902/R2.H1199 | D56: Навесная полка (2 двери) | E56: 900х400х620 | F56: 21471
B57: JR902/R2.H1250
A58: =A56+1 -> 34 | B58: JR903/R2.H1199 | D58: Навесная полка (1 дверь) | E58: 450х400х620 | F58: 15353
B59: JR903/R2.H1250
A60: =A58+1 -> 35 | B60: JR101SX.H3154 | D60: Стол руководителя1 левый | E60: 2400х1000х792 | F60: 159763
B61: JR101SX.H1199
B62: JR101SX.H1250
A63: =A60+1 -> 36 | B63: JR101DX.H3154 | D63: Стол руководителя1 правый | E63: 2400х1000х792 | F63: 159763
B64: JR101DX.H1199
B65: JR101SX.H1250
A66: =A63+1 -> 37 | B66: JR201SX.H3154 | D66: Тумба приставная короткая левая | E66: 590х900х480 | F66: 59392
B67: JR201SX.H1199
B68: JR201SX.H1250
A69: =A66+1 -> 38 | B69: JR201DX.H3154 | D69: Тумба приставная короткая правая | E69: 590х900х480 | F69: 59392
B70: JR201DX.H1199
B71: JR201DX.H1250
A72: =A69+1 -> 39 | B72: JR702.H3154 | D72: Стол переговорный | E72: 2800х1200х792 | F72: 204209
B73: JR702.H1199
B74: JR702.H1250
A75: =A72+1 -> 40 | B75: JR525/R2.H3154 | D75: Двойной шкаф средний | E75: 1900х500х1567 | F75: 148304
B76: JR525/R2.H1199
B77: JR525/R2.H1250
A78: =A75+1 -> 41 | B78: JR529/R2.H3154 | D78: Шкаф для документов высокий | E78: 1000х628х2067 | F78: 138539
B79: JR529/R2.H1199
B80: JR529/R2.H1250
A81: =A78+1 -> 42 | B81: JR523/R2.H3154 | D81: Тройной шкаф низкий | E81: 2800х500х787 | F81: 126538
B82: JR523/R2.H1199
B83: JR523/R2.H1250
A84: =A81+1 -> 43 | B84: JR524/R2.H3154 | D84: Шкаф средний | E84: 1000х500х1567 | F84: 97863
B85: JR524/R2.H1199
B86: JR524/R2.H1250
A87: =A84+1 -> 44 | B87: JR532/R2.H3154 | D87: Гардероб и шкаф высокий для документов | E87: 1900х628х2067 | F87: 204232
B88: JR532/R2.H1199
B89: JR532/R2.H1250
A90: =A87+1 -> 45 | B90: JR534/R2.H3154 | D90: Гардероб и два шкафа высоких для документов | E90: 2800х628х2067 | F90: 275219
B91: JR534/R2.H1199
B92: JR534/R2.H1250
A93: =A90+1 -> 46 | B93: JR531/R2.H3154 | D93: Двойной шкаф комбинированный | E93: 1900х628х2067 | F93: 256159
B94: JR531/R2.H1199
B95: JR531/R2.H1250
A96: =A93+1 -> 47 | B96: JR533/R2.H3154 | D96: Гардероб и два шкафа комбинированных | E96: 2800х628х2067 | F96: 310873
B97: JR533/R2.H1199
B98: JR533/R2.H1250
A99: =A96+1 -> 48 | B99: JR950.H3154 | C99: Стойка__ ресепшн __ | E99: 2200х1500х1150 (возможна корректировка размеров) | F99: по согласованию
B100: JR950.H1199
B101: JR950.H1250
A102: Элементы программы под заказ производятся при заявке от 600 000 рублей.
A103: 1 ВАЖНО! Тумба в цену стола JR102 или JR101 не входит. Клиент может выбрать тумбы JR201 или JR212. Стол без тумбы не продается. Перетяжка опор стола в цвета нескладской программы осуществляется за дополнительную плату.
...

Sheet ARES LUX
B2: Кабинет руководителя АРЕС ЛЮКС | ARES LUX | J2: =FLASH!H2 -> 46241
B5: Складская программа
A6: Код | B6: № | C6: Артикул | D6: Наименование | E6: Размер, мм | F6: Иллюстрация | G6: Цвет и описание | J6: Цена розница
A7: D0000052259 | B7: 1 | C7: WNS1816L /TA29YA | D7: Cтол письменный с боковой тумбой 1,8м. левый / правый | E7: 1800*1600 *756 Столешница: (1600*800*26) | F7: на фото левый стол | G7: Столешница Жженый дуб ТА28YA или Кофейный орех TA29YA. Тумбы и фронталь: серый ТА102 или черный TA12. | H7: 123 | I7: 1.1 | J7: 255074
A8: D0000050694 | B8: =B7+1 -> 2 | C8: WNS1816R /TA29YA | H8: 123 | I8: 1.1
A9: D0000050801 | B9: =B8+1 -> 3 | C9: WNS1816L /TA28YA | D9: Cтол письменный с боковой тумбой 1,8м. левый / правый | E9: 1800*1600 *756 Столешница: (1600*800*26) | F9: на фото правый стол | G9: Столешница Жженый дуб ТА28YA или Кофейный орех TA29YA. Тумбы и фронталь: серый ТА102 или черный TA12. | H9: 123 | I9: 1.1 | J9: 255074
A10: D0000053949 | B10: =B9+1 -> 4 | C10: WNS1816R /TA28YA | H10: 123 | I10: 1.1
A11: D0000053951 | B11: =B10+1 -> 5 | C11: WNS2016L /TA29YA | D11: Cтол письменный с боковой тумбой 2м. левый / правый | E11: 2000*1600 *756 Столешница: (1800*900*26) | F11: на фото левый стол | G11: Столешница Жженый дуб ТА28YA или Кофейный орех TA29YA. Тумбы и фронталь: серый ТА102 или черный TA12. | H11: 128 | I11: 1 | J11: 255074
A12: D0000053952 | B12: =B11+1 -> 6 | C12: WNS2016R /TA29YA | H12: 128 | I12: 1
A13: D0000050801 | B13: =B12+1 -> 7 | C13: WNS2016L /TA28YA | D13: Cтол письменный с боковой тумбой 2м. левый / правый | E13: 2000*1600 *756 Столешница: (1800*900*26) | F13: на фото правый стол | G13: Столешница Жженый дуб ТА28YA или Кофейный орех TA29YA. Тумбы и фронталь: серый ТА102 или черный TA12. | H13: 128 | I13: 1 | J13: 255074
A14: D0000051262 | B14: =B13+1 -> 8 | C14: WNS2016R /TA28YA | H14: 128 | I14: 1
A15: D0000051265 | B15: =B14+1 -> 9 | C15: WNS2412D /TA28YA | D15: Стол для переговоров 2,4м. | E15: 2400*1200 *756 Столешница: (2400*1200*26) | G15: Столешница Жженый дуб ТА28YA Опоры - черный хром. | H15: 91 | I15: 1.1 | J15: 458259
A16: D0000053219 | B16: =B15+1 -> 10 | C16: WNS2412D /TA29YA | G16: Столешница Кофейный орех TA29YA. Опоры - хром. | H16: 91 | I16: 1.1
A17: D0000054336 | B17: =B16+1 -> 11 | C17: WNS1107 /TA28YA WNS1107 /TA29YA | D17: Cтол круглый d1,1м. | E17: D1100*756 Столешница: (D1100*26) | G17: Столешница Жженый дуб ТА28YA или Кофейный орех TA29YA. Опоры - черный хром для ТА28YA и хром дляTA29YA | H17: 47.6 | I17: 0.3 | J17: 178216
A18: D0000053300 | B18: =B17+1 -> 12 | H18: 47.6 | I18: 0.3
A19: D0000053950 | B19: =B18+1 -> 13 | C19: WNS1207 /TA28YA WNS1207 /TA29YA | D19: Брифинг | E19: 1200*700 *756 Столешница: (1200*700*26) | G19: Столешница Жженый дуб ТА28YA или Кофейный орех TA29YA. Опоры - черный хром для ТА28YA и хром дляTA29YA | J19: 154224
A20: D0000053953 | B20: =B19+1 -> 14
A21: D0000051263 | B21: 15 | C21: WNS1508 /TA28YA WNS1508 /TA29YA | D21: Шкаф-греденция с 4-мя дверками | E21: 1572*400 *800 | G21: Топ и боковые панели греденции выполнены в шпоне Кофейный орех TA29YA или Жженый дуб TA28YA. Фасады в Сером ТА102, для TA29YA или черном TA12 для TA28YA. | J21: 158949
A22: D0000050697 | B22: 16
A23: D0000051264 | B23: 17 | C23: WNS1908 /TA28YA WNS1908 /TA29YA | D23: Шкаф-греденция с 5-ю дверками | E23: 1955*400 *800 | G23: Топ и боковые панели греденции выполнены в шпоне Кофейный орех TA29YA или Жженый дуб TA28YA. Фасады в Сером ТА102, для TA29YA или черном TA12 для TA28YA. | J23: 212925
A24: D0000054853 | B24: 18
A25: D0000051266 | B25: 19 | C25: XCEO2820-A /TA28YA XCEO2820-A /TA29YA | D25: Шкаф с подсветкой | E25: 2800*400 *2000 | G25: Корпус шкафа - ЛДСП, цв. черный или серый камень. Фасады и боковины шпон: Жженый дуб ТА28YA или Кофейный орех TA29YA. В составе шкафа гардероб c глухим шпонированным фасадом, секции с подсветкой за тонированным стеклом. Открытые и закрытые секции под документы. | J25: 429316
A26: D0000053954 | B26: 20
B27: Нескладская программа (элементы в наличии на дату формирования прайс-листа)
A28: Код | B28: № | C28: Артикул | D28: Наименование | E28: Размер, мм | F28: Фото | G28: Цвет и описание | J28: Цена розница
A29: D0000051246 | B29: 28 | C29: WNS2216L /TA28YA | D29: Cтол письменный с боковой тумбой левый / правый | E29: 2200*1600*756 Столешница: (2000*900*26) | F29: на фото левый стол | G29: Столешница Жженый дуб ТА28YA Фронталь: черный TA12. | H29: 135 | I29: 1.1 | J29: 274696
A30: D0000051247 | B30: =B29+1 -> 29 | C30: WNS2216R /TA28YA | H30: 135 | I30: 1.1
A31: D0000051267 | B31: =B30+1 -> 30 | C31: WNS2118WL /TA28YA | D31: Шкаф | E31: 2150*400 *1800 | F31: Хромированные. элементы заменены покраской в цвет фасада | G31: Боковины, нижний топ и задняя панель Жженый дуб ТА28YA фасады - черный TA12. | J31: 406462
B33: Комплект (Стол руководителя c тумбой, шкаф)
B34: Состав комплекта | J34: Цена розница
B35: Cтол письменный с боковой тумбой 2,2 м WNS2016L/R Шкаф с подсветкой XCEO2820-A | J35: =J13+J25 -> 684390
B36: Подробнее на сайте, на странице кабинета | F36: АРЕС ЛЮКС | ARES LUX
B37: Товар не предназначен для продажи на маркетплейсах

Sheet WINTER
B2: Кабинет руководителя ВИНТЕР | WINTER | H2: =FLASH!H2 -> 46241
B5: Складская программа
A6: Код | B6: № | C6: Артикул | D6: Наименование | E6: Размер | F6: Иллюстрация | G6: Цвет и описание | H6: Цена розница
A7: D0000053865 | B7: 1 | C7: SN2018Z-L/TA28YA | D7: Стол письменный с боковой тумбой, и подъемным механизмом, левый / правый | E7: 2000*1800 *750-1180 Столешница: (1800*900*26) | F7: на фото левый стол в верхнем положении | G7: Столешница стола шпон TA28YA._x000D_ Боковая тумба и передний экран черного цвета. Опора стола из нержавеющей стали, отполированной до зеркального блеска. | H7: 295367
A8: D0000054251 | B8: =B7+1 -> 2 | C8: SN2018Z-R/TA28YA
A9: D0000053850 | B9: =B8+1 -> 3 | C9: SN2018Z-L/TA29YA | D9: Стол письменный с боковой тумбой, и подъемным механизмом, левый / правый | E9: 2000*1800 *750-1180 Столешница: (1800*900*26) | F9: на фото левый стол в нижнем положении | G9: Столешница стола шпон TA29YA._x000D_ Боковая тумба и передний экран выполнены в сером цвете TA102 Опора стола из нержавеющей стали, отполированной до зеркального блеска. | H9: 295367
A10: D0000053851 | B10: =B9+1 -> 4 | C10: SN2018Z-R /TA29YA
A11: D0000054252 | B11: =B10+1 -> 5 | C11: SN2209/TA28YA SN2209/TA29YA | D11: Стол переговоров | E11: 2200*900*750 Столешница: (2200*900*26) | G11: Столешница стола шпон Жженый дуб TA28YA или Кофейный орех TA29YA Шина электропитания (3 розетки в 220В адаптированные для России) Опоры стола из нержавеющей стали, отполированные до зеркального блеска. | H11: 293497
A12: D0000053852 | B12: =B11+1 -> 6
A13: D0000051263 | B13: =B12+1 -> 7 | C13: WNS1508 /TA28YA WNS1508 /TA29YA | D13: Шкаф-греденция с 4-мя дверками | E13: 1572*400 *800 | G13: Топ и боковые панели греденции выполнены в шпоне Кофейный орех TA29YA или Жженый дуб TA28YA. Фасады в Сером ТА102, для TA29YA или черном TA12 для TA28YA. | H13: 158949
A14: D0000050697 | B14: =B13+1 -> 8
A15: D0000051264 | B15: =B14+1 -> 9 | C15: WNS1908 /TA28YA WNS1908 /TA29YA | D15: Шкаф-греденция с 5-ю дверками | E15: 1955*400 *800 | G15: Топ и боковые панели греденции выполнены в шпоне Кофейный орех TA29YA или Жженый дуб TA28YA. Фасады в Сером ТА102, для TA29YA или черном TA12 для TA28YA. | H15: 212925
B16: =B15+1 -> 10
A17: D0000051266 | B17: =B16+1 -> 11 | C17: XCEO2820-A /TA28YA XCEO2820-A /TA29YA | D17: Шкаф с подсветкой | E17: 2800*400 *2000 | G17: Корпус шкафа - ЛДСП, цв. черный или серый камень. Фасады и боковины шпон: Жженый дуб ТА28YA или Кофейный орех TA29YA. В составе шкафа гардероб c глухим шпонированным фасадом, секции с подсветкой за тонированным стеклом. Открытые и закрытые секции под документы. | H17: 429316
A18: D0000053954 | B18: =B17+1 -> 12
B20: Комплект (Стол руководителя c тумбой, шкаф)
B21: Состав комплекта | H21: Цена розница
B22: Стол письменный с боковой тумбой, и подъемным механизмом SN2018Z-L/R Шкаф с с подсветкой XCEO2820-A | H22: =H7+H17 -> 724683
B23: Подробнее на сайте, на странице коллекции | F23: ВИНТЕР | WINTER
B24: Товар не предназначен для продажи на маркетплейсах

Sheet EMPORIO
A5: Программа под заказ | G5: =FLASH!H2 -> 46241
A6: № | B6: Артикул | C6: Иллюстрация | D6: ЦВЕТ | E6: Наименование | F6: РАЗМЕР (ДхШхВ), мм | G6: Розничная цена, руб.
A7: 1 | B7: EMP101.HGW | D7: БЕЛЫЙ HIGH GLOSS | E7: Стол для руководителя прямой 1800х900 | F7: 1800х900х757 | G7: 128393
A8: =A7+1 -> 2 | B8: EMP103.HGW | D8: БЕЛЫЙ HIGH GLOSS | E8: Стол для руководителя прямой 1600х900 | F8: 1600х900х757 | G8: 122608
A9: =A8+1 -> 3 | B9: EMP105/DX.HGW | D9: БЕЛЫЙ HIGH GLOSS | E9: Стол руководителя с опорной тумбой правой Вставка EMP704 в стоимость стола не входит. | F9: 2000х1650х757 | G9: 233429
A10: =A9+1 -> 4 | B10: EMP105/SX.HGW | D10: БЕЛЫЙ HIGH GLOSS | E10: Стол руководителя с опорной тумбой левой Вставка EMP704 в стоимость стола не входит. | F10: 2000х1650х757 | G10: 233429
A11: =A10+1 -> 5 | B11: EMP601.HGW | D11: БЕЛЫЙ HIGH GLOSS | E11: Брифинг-приставка | F11: 1000х650х757 | G11: 65799
A12: =A11+1 -> 6 | B12: EMP901.H | D12: БЕЛЫЙ | E12: Передняя панель стола (белый) | F12: 1290х340х18 | G12: 5566
A13: =A12+1 -> 7 | B13: EMP502.HGW | D13: БЕЛЫЙ HIGH GLOSS | E13: Стол для переговоров 1100х1100 | F13: 1100х1100х757 | G13: 185283
A14: =A13+1 -> 8 | B14: EMP511NEW.HGW | D14: БЕЛЫЙ HIGH GLOSS | E14: Стол для переговоров 2400х1200 | F14: 2400х1200х757 | G14: 279916
A15: =A14+1 -> 9 | B15: EMP521NEW.HGW | D15: БЕЛЫЙ HIGH GLOSS | E15: Стол для переговоров 2800х1200 | F15: 2800х1200х757 | G15: 298123
A16: =A15+1 -> 10 | B16: EMP531NEW.HGW | D16: БЕЛЫЙ HIGH GLOSS | E16: Стол для переговоров 3200х1200 | F16: 3200х1200х757 | G16: 352277
A17: =A16+1 -> 11 | B17: EMP201.HGW | D17: БЕЛЫЙ HIGH GLOSS | E17: Тумба мобильная с двумя ящиками | F17: 450х480х590 | G17: 48000
A18: =A17+1 -> 12 | B18: EMP222DX.HGW | D18: БЕЛЫЙ HIGH GLOSS | E18: Тумба мобильная с 2 ящиками и правой дверью | F18: 1200х500х590 | G18: 82325
A19: =A18+1 -> 13 | B19: EMP222SX.HGW | D19: БЕЛЫЙ HIGH GLOSS | E19: Тумба мобильная с 2 ящиками и левой дверью | F19: 1200х500х590 | G19: 82325
... A56: =A55+1 -> 50 | B56: EMP802R.HGW | D56: БЕЛЫЙ HIGH GLOSS | E56: Стойка ресепшн правая | F56: 2400х2010х1150 | G56: 153846
A57: Столешницы и фасады - МДФ с высокоглянцевым белым покрытием.
A58: Коллекция поизводится при заказе от 600 000р. в розничных ценах в одном цвете.
A59: В комплект столов руководителя входит хромированный выход кабельканала. У столов EMP301DX/SX дополнительный выход кабель канала размещен и в тумбе.
A61: Комплект (Стол руководителя+тумба подкатная, шкаф для документов, гардероб)
A62: Состав комплекта | F62: Розничная цена
A63: EMP101.HGW (Стол для руководителя прямой 1800х900), EMP201.HGW (Тумба мобильная с двумя ящиками), EMP432.H, EMP433.H, EMP717.H, EMP722.H, EMP437.HGW- 4 шт. | F63: =G7+G17+(G23+G24+G34+G46+G47*4) -> 337055
C65: Подробнее о кабинете на сайте | E65: ЭМПОРИО | EMPORIO
A66: Товар не предназначен для продажи на маркетплейсах
